Package: dagLogo Version: 1.45.1 Command: /Library/Frameworks/R.framework/Resources/bin/R CMD check --install=check:dagLogo.install-out.txt --library=/Library/Frameworks/R.framework/Resources/library --no-vignettes --timings dagLogo_1.45.1.tar.gz StartedAt: 2025-02-12 18:52:12 -0500 (Wed, 12 Feb 2025) EndedAt: 2025-02-12 18:54:40 -0500 (Wed, 12 Feb 2025) EllapsedTime: 147.7 seconds RetCode: 0 Status: OK CheckDir: dagLogo.Rcheck Warnings: 0