Package: dagLogo Version: 1.45.1 Command: /Library/Frameworks/R.framework/Resources/bin/R CMD build --keep-empty-dirs --no-resave-data dagLogo StartedAt: 2025-02-09 16:27:40 -0500 (Sun, 09 Feb 2025) EndedAt: 2025-02-09 16:29:48 -0500 (Sun, 09 Feb 2025) EllapsedTime: 128.1 seconds RetCode: 0 Status: OK PackageFile: dagLogo_1.45.1.tar.gz PackageFileSize: 3.112 MiB