Package: dagLogo Version: 1.45.1 Command: /home/biocbuild/bbs-3.21-bioc/R/bin/R CMD build --keep-empty-dirs --no-resave-data dagLogo StartedAt: 2025-02-09 16:52:59 -0500 (Sun, 09 Feb 2025) EndedAt: 2025-02-09 16:54:41 -0500 (Sun, 09 Feb 2025) EllapsedTime: 102.1 seconds RetCode: 0 Status: OK PackageFile: dagLogo_1.45.1.tar.gz PackageFileSize: 2.656 MiB