Package: dagLogo Version: 1.45.1 Command: /home/biocbuild/bbs-3.21-bioc/R/bin/R CMD INSTALL dagLogo StartedAt: 2025-02-12 15:52:53 -0500 (Wed, 12 Feb 2025) EndedAt: 2025-02-12 15:53:43 -0500 (Wed, 12 Feb 2025) EllapsedTime: 49.3 seconds RetCode: 0 Status: OK