Package: dagLogo Version: 1.45.1 Command: E:\biocbuild\bbs-3.21-bioc\R\bin\R.exe CMD INSTALL dagLogo StartedAt: 2025-02-12 16:31:27 -0500 (Wed, 12 Feb 2025) EndedAt: 2025-02-12 16:32:34 -0500 (Wed, 12 Feb 2025) EllapsedTime: 67.8 seconds RetCode: 0 Status: OK