Package: dar Version: 1.3.0 Command: rm -rf dar.buildbin-libdir && mkdir dar.buildbin-libdir && /Users/biocbuild/BBS/utils/build-universal.sh dar_1.3.0.tar.gz /Library/Frameworks/R.framework/Resources/bin/R dar.buildbin-libdir StartedAt: 2025-02-09 22:11:30 -0500 (Sun, 09 Feb 2025) EndedAt: 2025-02-09 22:11:40 -0500 (Sun, 09 Feb 2025) EllapsedTime: 10.2 seconds RetCode: 0 Status: OK PackageFile: dar_1.3.0.tgz PackageFileSize: 2.379 MiB