Package: dar Version: 1.3.0 Command: /Library/Frameworks/R.framework/Resources/bin/R CMD build --keep-empty-dirs --no-resave-data dar StartedAt: 2025-02-09 16:03:43 -0500 (Sun, 09 Feb 2025) EndedAt: 2025-02-09 16:04:32 -0500 (Sun, 09 Feb 2025) EllapsedTime: 48.6 seconds RetCode: 0 Status: OK PackageFile: dar_1.3.0.tar.gz PackageFileSize: 2.001 MiB