Package: dar Version: 1.3.0 Command: /Library/Frameworks/R.framework/Resources/bin/R CMD INSTALL dar StartedAt: 2025-02-09 15:25:28 -0500 (Sun, 09 Feb 2025) EndedAt: 2025-02-09 15:25:36 -0500 (Sun, 09 Feb 2025) EllapsedTime: 8.4 seconds RetCode: 0 Status: OK