Package: dar Version: 1.3.0 Command: /home/biocbuild/bbs-3.21-bioc/R/bin/R CMD check --install=check:dar.install-out.txt --library=/home/biocbuild/bbs-3.21-bioc/R/site-library --timings dar_1.3.0.tar.gz StartedAt: 2025-02-12 21:26:04 -0500 (Wed, 12 Feb 2025) EndedAt: 2025-02-12 21:38:52 -0500 (Wed, 12 Feb 2025) EllapsedTime: 767.9 seconds RetCode: 1 Status: ERROR CheckDir: dar.Rcheck Warnings: NA