Package: dar Version: 1.3.0 Command: /home/biocbuild/bbs-3.21-bioc/R/bin/R CMD INSTALL dar StartedAt: 2025-02-09 15:54:44 -0500 (Sun, 09 Feb 2025) EndedAt: 2025-02-09 15:55:06 -0500 (Sun, 09 Feb 2025) EllapsedTime: 22.4 seconds RetCode: 0 Status: OK