Package: dar Version: 1.3.0 Command: E:\biocbuild\bbs-3.21-bioc\R\bin\R.exe CMD INSTALL dar StartedAt: 2025-02-09 16:28:36 -0500 (Sun, 09 Feb 2025) EndedAt: 2025-02-09 16:29:35 -0500 (Sun, 09 Feb 2025) EllapsedTime: 59.3 seconds RetCode: 0 Status: OK