Package: dcanr Version: 1.23.0 Command: rm -rf dcanr.buildbin-libdir && mkdir dcanr.buildbin-libdir && /Users/biocbuild/BBS/utils/build-universal.sh dcanr_1.23.0.tar.gz /Library/Frameworks/R.framework/Resources/bin/R dcanr.buildbin-libdir StartedAt: 2025-02-09 22:11:33 -0500 (Sun, 09 Feb 2025) EndedAt: 2025-02-09 22:11:36 -0500 (Sun, 09 Feb 2025) EllapsedTime: 3.1 seconds RetCode: 0 Status: OK PackageFile: dcanr_1.23.0.tgz PackageFileSize: 1.835 MiB