Package: dcanr Version: 1.23.0 Command: /Library/Frameworks/R.framework/Resources/bin/R CMD build --keep-empty-dirs --no-resave-data dcanr StartedAt: 2025-02-09 16:03:53 -0500 (Sun, 09 Feb 2025) EndedAt: 2025-02-09 16:04:10 -0500 (Sun, 09 Feb 2025) EllapsedTime: 16.2 seconds RetCode: 0 Status: OK PackageFile: dcanr_1.23.0.tar.gz PackageFileSize: 1.749 MiB