Package: dcanr Version: 1.23.0 Command: /Library/Frameworks/R.framework/Resources/bin/R CMD INSTALL dcanr StartedAt: 2025-02-04 15:12:46 -0500 (Tue, 04 Feb 2025) EndedAt: 2025-02-04 15:12:48 -0500 (Tue, 04 Feb 2025) EllapsedTime: 2.2 seconds RetCode: 0 Status: OK