Package: dcanr Version: 1.23.0 Command: /home/biocbuild/R/R/bin/R CMD build --keep-empty-dirs --no-resave-data dcanr StartedAt: 2025-01-28 22:17:09 -0000 (Tue, 28 Jan 2025) EndedAt: 2025-01-28 22:18:24 -0000 (Tue, 28 Jan 2025) EllapsedTime: 75.0 seconds RetCode: 0 Status: OK PackageFile: dcanr_1.23.0.tar.gz PackageFileSize: 1.455 MiB