Package: dcanr Version: 1.23.0 Command: /home/biocbuild/R/R/bin/R CMD INSTALL dcanr StartedAt: 2025-01-29 19:59:02 -0000 (Wed, 29 Jan 2025) EndedAt: 2025-01-29 19:59:07 -0000 (Wed, 29 Jan 2025) EllapsedTime: 5.2 seconds RetCode: 0 Status: OK