Package: dcanr Version: 1.23.0 Command: /Library/Frameworks/R.framework/Resources/bin/R CMD check --install=check:dcanr.install-out.txt --library=/Library/Frameworks/R.framework/Resources/library --no-vignettes --timings dcanr_1.23.0.tar.gz StartedAt: 2025-02-09 20:08:53 -0500 (Sun, 09 Feb 2025) EndedAt: 2025-02-09 20:10:11 -0500 (Sun, 09 Feb 2025) EllapsedTime: 78.0 seconds RetCode: 0 Status: OK CheckDir: dcanr.Rcheck Warnings: 0