Package: dcanr Version: 1.23.0 Command: /Library/Frameworks/R.framework/Resources/bin/R CMD INSTALL dcanr StartedAt: 2025-02-04 15:14:22 -0500 (Tue, 04 Feb 2025) EndedAt: 2025-02-04 15:14:27 -0500 (Tue, 04 Feb 2025) EllapsedTime: 5.5 seconds RetCode: 0 Status: OK