Package: dcanr Version: 1.23.0 Command: /home/biocbuild/bbs-3.21-bioc/R/bin/R CMD INSTALL dcanr StartedAt: 2025-02-09 15:07:06 -0500 (Sun, 09 Feb 2025) EndedAt: 2025-02-09 15:07:38 -0500 (Sun, 09 Feb 2025) EllapsedTime: 31.6 seconds RetCode: 0 Status: OK