Package: dcanr Version: 1.23.0 Command: chmod a+r dcanr -R && E:\biocbuild\bbs-3.21-bioc\R\bin\R.exe CMD build --keep-empty-dirs --no-resave-data dcanr StartedAt: 2025-02-04 18:10:22 -0500 (Tue, 04 Feb 2025) EndedAt: 2025-02-04 18:12:06 -0500 (Tue, 04 Feb 2025) EllapsedTime: 103.6 seconds RetCode: 0 Status: OK PackageFile: dcanr_1.23.0.tar.gz PackageFileSize: 1.276 MiB