Package: dcanr Version: 1.23.0 Command: E:\biocbuild\bbs-3.21-bioc\R\bin\R.exe CMD check --no-multiarch --install=check:dcanr.install-out.txt --library=E:\biocbuild\bbs-3.21-bioc\R\library --no-vignettes --timings dcanr_1.23.0.tar.gz StartedAt: 2025-02-05 00:40:44 -0500 (Wed, 05 Feb 2025) EndedAt: 2025-02-05 00:42:01 -0500 (Wed, 05 Feb 2025) EllapsedTime: 77.6 seconds RetCode: 0 Status: OK CheckDir: dcanr.Rcheck Warnings: 0