Package: dcanr Version: 1.23.0 Command: E:\biocbuild\bbs-3.21-bioc\R\bin\R.exe CMD INSTALL dcanr StartedAt: 2025-02-09 15:34:15 -0500 (Sun, 09 Feb 2025) EndedAt: 2025-02-09 15:34:33 -0500 (Sun, 09 Feb 2025) EllapsedTime: 17.7 seconds RetCode: 0 Status: OK