Package: dce Version: 1.15.1 Command: /home/biocbuild/R/R/bin/R CMD build --keep-empty-dirs --no-resave-data dce StartedAt: 2025-01-28 22:17:39 -0000 (Tue, 28 Jan 2025) EndedAt: 2025-01-28 22:20:38 -0000 (Tue, 28 Jan 2025) EllapsedTime: 179.1 seconds RetCode: 1 Status: ERROR PackageFile: None PackageFileSize: NA