Package: dce Version: 1.15.1 Command: /home/biocbuild/R/R/bin/R CMD INSTALL dce StartedAt: 2025-01-29 20:31:12 -0000 (Wed, 29 Jan 2025) EndedAt: 2025-01-29 20:31:57 -0000 (Wed, 29 Jan 2025) EllapsedTime: 45.5 seconds RetCode: 0 Status: OK