Package: dce Version: 1.15.1 Command: /Library/Frameworks/R.framework/Resources/bin/R CMD INSTALL dce StartedAt: 2025-02-09 15:41:54 -0500 (Sun, 09 Feb 2025) EndedAt: 2025-02-09 15:42:40 -0500 (Sun, 09 Feb 2025) EllapsedTime: 45.5 seconds RetCode: 0 Status: OK