Package: dce Version: 1.15.1 Command: /home/biocbuild/bbs-3.21-bioc/R/bin/R CMD INSTALL dce StartedAt: 2025-02-09 15:25:30 -0500 (Sun, 09 Feb 2025) EndedAt: 2025-02-09 15:26:01 -0500 (Sun, 09 Feb 2025) EllapsedTime: 31.1 seconds RetCode: 0 Status: OK