Package: ddCt Version: 1.63.0 Command: /Library/Frameworks/R.framework/Resources/bin/R CMD check --install=check:ddCt.install-out.txt --library=/Library/Frameworks/R.framework/Resources/library --no-vignettes --timings ddCt_1.63.0.tar.gz StartedAt: 2025-02-09 18:51:27 -0500 (Sun, 09 Feb 2025) EndedAt: 2025-02-09 18:51:44 -0500 (Sun, 09 Feb 2025) EllapsedTime: 17.2 seconds RetCode: 0 Status: WARNINGS CheckDir: ddCt.Rcheck Warnings: 1