Package: ddCt Version: 1.63.0 Command: /Library/Frameworks/R.framework/Resources/bin/R CMD INSTALL ddCt StartedAt: 2025-02-09 15:03:21 -0500 (Sun, 09 Feb 2025) EndedAt: 2025-02-09 15:03:29 -0500 (Sun, 09 Feb 2025) EllapsedTime: 8.3 seconds RetCode: 0 Status: OK