Package: ddCt Version: 1.63.0 Command: /home/biocbuild/R/R/bin/R CMD build --keep-empty-dirs --no-resave-data ddCt StartedAt: 2025-01-28 22:18:07 -0000 (Tue, 28 Jan 2025) EndedAt: 2025-01-28 22:18:24 -0000 (Tue, 28 Jan 2025) EllapsedTime: 17.0 seconds RetCode: 0 Status: OK PackageFile: ddCt_1.63.0.tar.gz PackageFileSize: 701.9 KiB