Package: ddCt Version: 1.63.0 Command: /Library/Frameworks/R.framework/Resources/bin/R CMD INSTALL ddCt StartedAt: 2025-02-09 15:07:30 -0500 (Sun, 09 Feb 2025) EndedAt: 2025-02-09 15:08:04 -0500 (Sun, 09 Feb 2025) EllapsedTime: 34.6 seconds RetCode: 0 Status: OK