Package: ddCt Version: 1.63.0 Command: /home/biocbuild/bbs-3.21-bioc/R/bin/R CMD build --keep-empty-dirs --no-resave-data ddCt StartedAt: 2025-02-09 16:54:03 -0500 (Sun, 09 Feb 2025) EndedAt: 2025-02-09 16:54:18 -0500 (Sun, 09 Feb 2025) EllapsedTime: 15.0 seconds RetCode: 0 Status: OK PackageFile: ddCt_1.63.0.tar.gz PackageFileSize: 783.5 KiB