Package: ddCt Version: 1.63.0 Command: rm -rf ddCt.buildbin-libdir && mkdir ddCt.buildbin-libdir && E:\biocbuild\bbs-3.21-bioc\R\bin\R.exe CMD INSTALL --build --library=ddCt.buildbin-libdir ddCt_1.63.0.tar.gz StartedAt: 2025-02-10 07:34:57 -0500 (Mon, 10 Feb 2025) EndedAt: 2025-02-10 07:35:46 -0500 (Mon, 10 Feb 2025) EllapsedTime: 48.6 seconds RetCode: 0 Status: OK PackageFile: ddCt_1.63.0.zip PackageFileSize: 1.012 MiB