Package: ddCt Version: 1.63.0 Command: E:\biocbuild\bbs-3.21-bioc\R\bin\R.exe CMD check --no-multiarch --install=check:ddCt.install-out.txt --library=E:\biocbuild\bbs-3.21-bioc\R\library --no-vignettes --timings ddCt_1.63.0.tar.gz StartedAt: 2025-02-10 00:13:45 -0500 (Mon, 10 Feb 2025) EndedAt: 2025-02-10 00:14:35 -0500 (Mon, 10 Feb 2025) EllapsedTime: 50.0 seconds RetCode: 0 Status: WARNINGS CheckDir: ddCt.Rcheck Warnings: 1