Package: ddPCRclust Version: 1.27.0 Command: /Library/Frameworks/R.framework/Resources/bin/R CMD check --install=check:ddPCRclust.install-out.txt --library=/Library/Frameworks/R.framework/Resources/library --no-vignettes --timings ddPCRclust_1.27.0.tar.gz StartedAt: 2025-02-09 18:51:32 -0500 (Sun, 09 Feb 2025) EndedAt: 2025-02-09 18:52:28 -0500 (Sun, 09 Feb 2025) EllapsedTime: 55.7 seconds RetCode: 0 Status: OK CheckDir: ddPCRclust.Rcheck Warnings: 0