Package: ddPCRclust Version: 1.27.0 Command: /Library/Frameworks/R.framework/Resources/bin/R CMD INSTALL ddPCRclust StartedAt: 2025-02-12 15:27:13 -0500 (Wed, 12 Feb 2025) EndedAt: 2025-02-12 15:27:18 -0500 (Wed, 12 Feb 2025) EllapsedTime: 5.3 seconds RetCode: 0 Status: OK