Package: ddPCRclust Version: 1.27.0 Command: /home/biocbuild/R/R/bin/R CMD check --install=check:ddPCRclust.install-out.txt --library=/home/biocbuild/R/R/site-library --no-vignettes --timings ddPCRclust_1.27.0.tar.gz StartedAt: 2025-01-28 09:46:06 -0000 (Tue, 28 Jan 2025) EndedAt: 2025-01-28 09:49:33 -0000 (Tue, 28 Jan 2025) EllapsedTime: 207.2 seconds RetCode: 0 Status: OK CheckDir: ddPCRclust.Rcheck Warnings: 0