Package: ddPCRclust Version: 1.27.0 Command: /home/biocbuild/bbs-3.21-bioc/R/bin/R CMD build --keep-empty-dirs --no-resave-data ddPCRclust StartedAt: 2025-02-09 16:54:08 -0500 (Sun, 09 Feb 2025) EndedAt: 2025-02-09 16:54:38 -0500 (Sun, 09 Feb 2025) EllapsedTime: 30.0 seconds RetCode: 0 Status: OK PackageFile: ddPCRclust_1.27.0.tar.gz PackageFileSize: 1.192 MiB