Package: ddPCRclust Version: 1.27.0 Command: rm -rf ddPCRclust.buildbin-libdir && mkdir ddPCRclust.buildbin-libdir && E:\biocbuild\bbs-3.21-bioc\R\bin\R.exe CMD INSTALL --build --library=ddPCRclust.buildbin-libdir ddPCRclust_1.27.0.tar.gz StartedAt: 2025-02-13 07:45:43 -0500 (Thu, 13 Feb 2025) EndedAt: 2025-02-13 07:46:33 -0500 (Thu, 13 Feb 2025) EllapsedTime: 49.7 seconds RetCode: 0 Status: OK PackageFile: ddPCRclust_1.27.0.zip PackageFileSize: 1.346 MiB