Package: ddPCRclust Version: 1.27.0 Command: chmod a+r ddPCRclust -R && E:\biocbuild\bbs-3.21-bioc\R\bin\R.exe CMD build --keep-empty-dirs --no-resave-data ddPCRclust StartedAt: 2025-02-12 18:14:44 -0500 (Wed, 12 Feb 2025) EndedAt: 2025-02-12 18:15:34 -0500 (Wed, 12 Feb 2025) EllapsedTime: 49.9 seconds RetCode: 0 Status: OK PackageFile: ddPCRclust_1.27.0.tar.gz PackageFileSize: 1.194 MiB