Package: debCAM Version: 1.25.0 Command: /Library/Frameworks/R.framework/Resources/bin/R CMD build --keep-empty-dirs --no-resave-data debCAM StartedAt: 2025-02-09 16:04:05 -0500 (Sun, 09 Feb 2025) EndedAt: 2025-02-09 16:07:01 -0500 (Sun, 09 Feb 2025) EllapsedTime: 176.9 seconds RetCode: 0 Status: OK PackageFile: debCAM_1.25.0.tar.gz PackageFileSize: 3.731 MiB