Package: debCAM Version: 1.25.0 Command: /Library/Frameworks/R.framework/Resources/bin/R CMD build --keep-empty-dirs --no-resave-data debCAM StartedAt: 2025-02-09 16:28:38 -0500 (Sun, 09 Feb 2025) EndedAt: 2025-02-09 16:36:29 -0500 (Sun, 09 Feb 2025) EllapsedTime: 470.8 seconds RetCode: 0 Status: OK PackageFile: debCAM_1.25.0.tar.gz PackageFileSize: 3.73 MiB