Package: debCAM Version: 1.25.0 Command: /Library/Frameworks/R.framework/Resources/bin/R CMD check --install=check:debCAM.install-out.txt --library=/Library/Frameworks/R.framework/Resources/library --no-vignettes --timings debCAM_1.25.0.tar.gz StartedAt: 2025-02-09 20:09:31 -0500 (Sun, 09 Feb 2025) EndedAt: 2025-02-09 20:13:08 -0500 (Sun, 09 Feb 2025) EllapsedTime: 216.8 seconds RetCode: 0 Status: OK CheckDir: debCAM.Rcheck Warnings: 0