Package: debCAM Version: 1.25.0 Command: /home/biocbuild/bbs-3.21-bioc/R/bin/R CMD build --keep-empty-dirs --no-resave-data debCAM StartedAt: 2025-02-09 16:54:18 -0500 (Sun, 09 Feb 2025) EndedAt: 2025-02-09 17:00:31 -0500 (Sun, 09 Feb 2025) EllapsedTime: 372.8 seconds RetCode: 0 Status: OK PackageFile: debCAM_1.25.0.tar.gz PackageFileSize: 3.709 MiB