Package: debCAM Version: 1.25.0 Command: /home/biocbuild/bbs-3.21-bioc/R/bin/R CMD check --install=check:debCAM.install-out.txt --library=/home/biocbuild/bbs-3.21-bioc/R/site-library --timings debCAM_1.25.0.tar.gz StartedAt: 2025-02-04 21:29:17 -0500 (Tue, 04 Feb 2025) EndedAt: 2025-02-04 21:38:24 -0500 (Tue, 04 Feb 2025) EllapsedTime: 546.6 seconds RetCode: 0 Status: OK CheckDir: debCAM.Rcheck Warnings: 0