Package: debCAM Version: 1.25.0 Command: rm -rf debCAM.buildbin-libdir && mkdir debCAM.buildbin-libdir && E:\biocbuild\bbs-3.21-bioc\R\bin\R.exe CMD INSTALL --build --library=debCAM.buildbin-libdir debCAM_1.25.0.tar.gz StartedAt: 2025-02-10 07:35:07 -0500 (Mon, 10 Feb 2025) EndedAt: 2025-02-10 07:35:30 -0500 (Mon, 10 Feb 2025) EllapsedTime: 22.7 seconds RetCode: 0 Status: OK PackageFile: debCAM_1.25.0.zip PackageFileSize: 2.832 MiB