Package: debCAM Version: 1.25.0 Command: chmod a+r debCAM -R && E:\biocbuild\bbs-3.21-bioc\R\bin\R.exe CMD build --keep-empty-dirs --no-resave-data debCAM StartedAt: 2025-02-04 18:11:37 -0500 (Tue, 04 Feb 2025) EndedAt: 2025-02-04 18:21:07 -0500 (Tue, 04 Feb 2025) EllapsedTime: 570.2 seconds RetCode: 0 Status: OK PackageFile: debCAM_1.25.0.tar.gz PackageFileSize: 3.398 MiB