Package: debCAM Version: 1.25.0 Command: E:\biocbuild\bbs-3.21-bioc\R\bin\R.exe CMD check --no-multiarch --install=check:debCAM.install-out.txt --library=E:\biocbuild\bbs-3.21-bioc\R\library --no-vignettes --timings debCAM_1.25.0.tar.gz StartedAt: 2025-02-10 00:14:20 -0500 (Mon, 10 Feb 2025) EndedAt: 2025-02-10 00:18:08 -0500 (Mon, 10 Feb 2025) EllapsedTime: 228.6 seconds RetCode: 0 Status: OK CheckDir: debCAM.Rcheck Warnings: 0