Package: debCAM Version: 1.25.0 Command: E:\biocbuild\bbs-3.21-bioc\R\bin\R.exe CMD INSTALL debCAM StartedAt: 2025-02-04 16:24:36 -0500 (Tue, 04 Feb 2025) EndedAt: 2025-02-04 16:25:01 -0500 (Tue, 04 Feb 2025) EllapsedTime: 24.4 seconds RetCode: 0 Status: OK