Package: debrowser Version: 1.35.0 Command: rm -rf debrowser.buildbin-libdir && mkdir debrowser.buildbin-libdir && /Users/biocbuild/BBS/utils/build-universal.sh debrowser_1.35.0.tar.gz /Library/Frameworks/R.framework/Resources/bin/R debrowser.buildbin-libdir StartedAt: 2025-02-09 22:11:37 -0500 (Sun, 09 Feb 2025) EndedAt: 2025-02-09 22:11:58 -0500 (Sun, 09 Feb 2025) EllapsedTime: 21.4 seconds RetCode: 0 Status: OK PackageFile: debrowser_1.35.0.tgz PackageFileSize: 18.65 MiB