Package: debrowser Version: 1.35.0 Command: /home/biocbuild/R/R/bin/R CMD build --keep-empty-dirs --no-resave-data debrowser StartedAt: 2025-01-28 22:18:24 -0000 (Tue, 28 Jan 2025) EndedAt: 2025-01-28 22:22:45 -0000 (Tue, 28 Jan 2025) EllapsedTime: 261.1 seconds RetCode: 0 Status: OK PackageFile: debrowser_1.35.0.tar.gz PackageFileSize: 18.24 MiB